BEGIN:VCALENDAR
VERSION:2.0
CALSCALE:GREGORIAN
METHOD:PUBLISH
X-WR-CALNAME:Larpkalender.ch
X-WR-TIMEZONE:Europe/Zurich
X-WR-CALDESC:
BEGIN:VEVENT
SUMMARY:Nostria III
UID:larpkalenderchsingle16
URL;VALUE=URI:https://www.larpkalender.ch/event.php?id=16
LOCATION:Ludwigstein/Witzenhausen (Deutschland)
DTSTART;VALUE=DATE:20050520
DTEND;VALUE=DATE:20050523
END:VEVENT
END:VCALENDAR
