BEGIN:VCALENDAR
VERSION:2.0
CALSCALE:GREGORIAN
METHOD:PUBLISH
X-WR-CALNAME:Larpkalender.ch
X-WR-TIMEZONE:Europe/Zurich
X-WR-CALDESC:
BEGIN:VEVENT
SUMMARY:Historischer Handwerker- und Warenmarkt auf Schloss Wellenberg
UID:larpkalenderchsingle1572
URL;VALUE=URI:https://www.larpkalender.ch/event.php?id=1572
LOCATION:Frauenfeld (Schweiz)
DTSTART;VALUE=DATE:20230603
DTEND;VALUE=DATE:20230605
END:VEVENT
END:VCALENDAR
