BEGIN:VCALENDAR
VERSION:2.0
CALSCALE:GREGORIAN
METHOD:PUBLISH
X-WR-CALNAME:Larpkalender.ch
X-WR-TIMEZONE:Europe/Zurich
X-WR-CALDESC:
BEGIN:VEVENT
SUMMARY:Gammelfleisch 5
UID:larpkalenderchsingle1560
URL;VALUE=URI:https://www.larpkalender.ch/event.php?id=1560
LOCATION:Gruppenhaus Adonia, 8403 Vordemwald (Schweiz)
DTSTART;VALUE=DATE:20201113
DTEND;VALUE=DATE:20201116
END:VEVENT
END:VCALENDAR
