BEGIN:VCALENDAR
VERSION:2.0
CALSCALE:GREGORIAN
METHOD:PUBLISH
X-WR-CALNAME:Larpkalender.ch
X-WR-TIMEZONE:Europe/Zurich
X-WR-CALDESC:
BEGIN:VEVENT
SUMMARY:700 Jahre Stadt Lenzburg
UID:larpkalenderchsingle153
URL;VALUE=URI:https://www.larpkalender.ch/event.php?id=153
LOCATION:Lenzburg (Schweiz)
DTSTART;VALUE=DATE:20060809
DTEND;VALUE=DATE:20060821
END:VEVENT
END:VCALENDAR
