BEGIN:VCALENDAR
VERSION:2.0
CALSCALE:GREGORIAN
METHOD:PUBLISH
X-WR-CALNAME:Larpkalender.ch
X-WR-TIMEZONE:Europe/Zurich
X-WR-CALDESC:
BEGIN:VEVENT
SUMMARY:14. Ritterspiele Freienfels
UID:larpkalenderchsingle152
URL;VALUE=URI:https://www.larpkalender.ch/event.php?id=152
LOCATION:Weilburg (Deutschland)
DTSTART;VALUE=DATE:20060427
DTEND;VALUE=DATE:20060502
END:VEVENT
END:VCALENDAR
