BEGIN:VCALENDAR
VERSION:2.0
CALSCALE:GREGORIAN
METHOD:PUBLISH
X-WR-CALNAME:Larpkalender.ch
X-WR-TIMEZONE:Europe/Zurich
X-WR-CALDESC:
BEGIN:VEVENT
SUMMARY:Chroniken von Mythodea
UID:larpkalenderchsingle1518
URL;VALUE=URI:https://www.larpkalender.ch/event.php?id=1518
LOCATION:Pfadfinderzeltplatz Westernohe, Zum Weitstein 50, 56479 Westernohe, Deutschland (Deutschland)
DTSTART;VALUE=DATE:20210429
DTEND;VALUE=DATE:20210503
END:VEVENT
END:VCALENDAR
