BEGIN:VCALENDAR
VERSION:2.0
CALSCALE:GREGORIAN
METHOD:PUBLISH
X-WR-CALNAME:Larpkalender.ch
X-WR-TIMEZONE:Europe/Zurich
X-WR-CALDESC:
BEGIN:VEVENT
SUMMARY:Grosswald 2
UID:larpkalenderchsingle1502
URL;VALUE=URI:https://www.larpkalender.ch/event.php?id=1502
LOCATION: (Schweiz)
DTSTART;VALUE=DATE:20200918
DTEND;VALUE=DATE:20200921
END:VEVENT
END:VCALENDAR
