BEGIN:VCALENDAR
VERSION:2.0
CALSCALE:GREGORIAN
METHOD:PUBLISH
X-WR-CALNAME:Larpkalender.ch
X-WR-TIMEZONE:Europe/Zurich
X-WR-CALDESC:
BEGIN:VEVENT
SUMMARY:Eroeffnungsfeier der Ritterzelte
UID:larpkalenderchsingle148
URL;VALUE=URI:https://www.larpkalender.ch/event.php?id=148
LOCATION:5330 Zurzach (Schweiz)
DTSTART;VALUE=DATE:20060422
DTEND;VALUE=DATE:20060423
END:VEVENT
END:VCALENDAR
