BEGIN:VCALENDAR
VERSION:2.0
CALSCALE:GREGORIAN
METHOD:PUBLISH
X-WR-CALNAME:Larpkalender.ch
X-WR-TIMEZONE:Europe/Zurich
X-WR-CALDESC:
BEGIN:VEVENT
SUMMARY:Keltenfest
UID:larpkalenderchsingle146
URL;VALUE=URI:https://www.larpkalender.ch/event.php?id=146
LOCATION:Koellreuter Klushof bei Aesch, BL (Schweiz)
DTSTART;VALUE=DATE:20060610
DTEND;VALUE=DATE:20060612
END:VEVENT
END:VCALENDAR
