BEGIN:VCALENDAR
VERSION:2.0
CALSCALE:GREGORIAN
METHOD:PUBLISH
X-WR-CALNAME:Larpkalender.ch
X-WR-TIMEZONE:Europe/Zurich
X-WR-CALDESC:
BEGIN:VEVENT
SUMMARY:Mittelalterlicher Markt Bassersdorf
UID:larpkalenderchsingle145
URL;VALUE=URI:https://www.larpkalender.ch/event.php?id=145
LOCATION:Bassersdorf (Schweiz)
DTSTART;VALUE=DATE:20060318
DTEND;VALUE=DATE:20060319
END:VEVENT
END:VCALENDAR
