BEGIN:VCALENDAR
VERSION:2.0
CALSCALE:GREGORIAN
METHOD:PUBLISH
X-WR-CALNAME:Larpkalender.ch
X-WR-TIMEZONE:Europe/Zurich
X-WR-CALDESC:
BEGIN:VEVENT
SUMMARY:Stammtisch Bern
UID:larpkalenderchsingle132
URL;VALUE=URI:https://www.larpkalender.ch/event.php?id=132
LOCATION:Restaurant Beaulieu, Erlachstrasse 3, 3012 Bern (Schweiz)
DTSTART;VALUE=DATE:20060308
DTEND;VALUE=DATE:20060309
END:VEVENT
END:VCALENDAR
