BEGIN:VCALENDAR
VERSION:2.0
CALSCALE:GREGORIAN
METHOD:PUBLISH
X-WR-CALNAME:Larpkalender.ch
X-WR-TIMEZONE:Europe/Zurich
X-WR-CALDESC:
BEGIN:VEVENT
SUMMARY:Stammtisch Bern
UID:larpkalenderchsingle131
URL;VALUE=URI:https://www.larpkalender.ch/event.php?id=131
LOCATION:Restaurant Beaulieu, Erlachstrasse 3, 3012 Bern (Schweiz)
DTSTART;VALUE=DATE:20060222
DTEND;VALUE=DATE:20060223
END:VEVENT
END:VCALENDAR
