BEGIN:VCALENDAR
VERSION:2.0
CALSCALE:GREGORIAN
METHOD:PUBLISH
X-WR-CALNAME:Larpkalender.ch
X-WR-TIMEZONE:Europe/Zurich
X-WR-CALDESC:
BEGIN:VEVENT
SUMMARY:Nightfall Episode 3
UID:larpkalenderchsingle13
URL;VALUE=URI:https://www.larpkalender.ch/event.php?id=13
LOCATION:Zuerich (Schweiz)
DTSTART;VALUE=DATE:20050709
DTEND;VALUE=DATE:20050710
END:VEVENT
END:VCALENDAR
